BEGIN:VCALENDAR
VERSION:2.0
PRODID:-//Queensland Futures Institute - ECPv5.3.0//NONSGML v1.0//EN
CALSCALE:GREGORIAN
METHOD:PUBLISH
X-WR-CALNAME:Queensland Futures Institute
X-ORIGINAL-URL:https://qldfutures.com.au
X-WR-CALDESC:Events for Queensland Futures Institute
BEGIN:VTIMEZONE
TZID:UTC
BEGIN:STANDARD
TZOFFSETFROM:+0000
TZOFFSETTO:+0000
TZNAME:UTC
DTSTART:20210101T000000
END:STANDARD
END:VTIMEZONE
BEGIN:VEVENT
DTSTART;TZID=UTC:20210325T073000
DTEND;TZID=UTC:20210325T090000
DTSTAMP:20210225T053142
CREATED:20210215T000144Z
LAST-MODIFIED:20210219T051043Z
UID:11195-1616657400-1616662800@qldfutures.com.au
SUMMARY:SPECIAL 'FUTURE QUEENSLAND' EVENT - Opportunities for QLD with the USA - including Trade\, Climate Change\, Manufacturing\, and the Indo Pacific Strategy
DESCRIPTION:Professor Simon Jackman\, CEO\, United States Studies Centre\n \nLink to Bio \nPaul Cooper\, Chair\, Advanced Manufacturing Growth Centre\n \nLink to Bio \nProfessor Caitlin Byrne\, Director\, Griffith Asia Institute\n \nLink to Bio \nProfessor Ian Professor Ian Mackinnon\, Director\, Centre for Clean Energy Technologies and Practices\, Queensland University of Technology\n \nLink to Bio \nFacilitator: Professor Andrew Griffiths\, Executive Dean\, Faculty of Business\, Economics & Law\, The University of Queensland\n \nLink to Bio \nQFI Thanks its Red Sponsor \n \nClick on Link to Purchase Tickets
URL:https://qldfutures.com.au/event/special-future-queensland-event-opportunities-for-qld-with-the-usa-including-trade-climate-change-manufacturing-and-the-indo-pacific-strategy/
LOCATION:Customs House\, 399 Queen St\, Brisbane\, Queensland\, 400\, Australia
ATTACH;FMTTYPE=image/png:https://qldfutures.com.au/wp-content/uploads/2021/02/Image-for-Website.png
END:VEVENT
BEGIN:VEVENT
DTSTART;TZID=UTC:20210318T073000
DTEND;TZID=UTC:20210318T090000
DTSTAMP:20210225T053142
CREATED:20210214T234633Z
LAST-MODIFIED:20210214T234639Z
UID:11182-1616052600-1616058000@qldfutures.com.au
SUMMARY:QLD Policy Leaders Series - The Future of Regional Queensland - 18 March
DESCRIPTION:The Queensland Futures Institute’s 2021 Policy Leaders Breakfasts feature influential policy makers and shapers. The panel will share their outlook for their regions and highlight the opportunities and challenges for the year ahead. \nCr Anne Baker\, Mayor\, Isaac Regional Council\n \nCr Matt Burnett\, Mayor\, Gladstone Regional Council\n \nCr Jack Dempsey\, Mayor\, Bundaberg Regional Council\n \nCr Jenny Hill\, Mayor\, Townsville City Council\n \nCr Bob Manning OAM\, Mayor\, Cairns Regional Council\n \nCr Greg Williamson\, Mayor\, Mackay Regional Council\n \nModerator – Fiona Lowes\, Partner\, Deals\, PwC Australia  \n \nQFI Thanks its Breakfast Sponsor
URL:https://qldfutures.com.au/event/qld-policy-leaders-series-the-future-of-regional-queensland-18-march/
LOCATION:Customs House\, 399 Queen St\, Brisbane\, Queensland\, 400\, Australia
ATTACH;FMTTYPE=image/jpeg:https://qldfutures.com.au/wp-content/uploads/2020/04/tile2-1.jpg
END:VEVENT
END:VCALENDAR